BEGIN:VCALENDAR
VERSION:2.0
PRODID:-//wp-events-plugin.com//7.2.3.1//EN
BEGIN:VEVENT
UID:33@abcnorio.org
DTSTART;TZID=America/New_York:20260314T180000
DTEND;TZID=America/New_York:20260314T220000
DTSTAMP:20260223T231250Z
URL:https://www.abcnorio.org/events/1846/
SUMMARY:Punk Show @ PIT (Psyops\, Non Residents\, Lollirot!!\, Trash Dykes)
  03.14
DESCRIPTION:Show at PIT on March 14th!!\n\nGreat lineup in:\nPsyops\n\nNon 
 Residents\n\nLollirot!!\n\nTrash Dykes\n\nDoors 6pm\n\nSuggested Donation 
 $10-20\n411 South Street Brooklyn\n\nGet tickets here: https://withfriends
 .events/t/bvbnxyaa/&nbsp\;
ATTACH;FMTTYPE=image/jpeg:https://i0.wp.com/www.abcnorio.org/wp-content/up
 loads/2026/01/96A3C40B-3F72-4CFB-BC31-C8F2553A72CC.jpg?fit=1126%2C1460&ssl
 =1
LOCATION:P.I.T (Property is Theft)\, 411 South 5th St\, Los Sures\, William
 sburg\, Brooklyn\, New York\,  11211\, United States
X-APPLE-STRUCTURED-LOCATION;VALUE=URI;X-ADDRESS=411 South 5th St\, Los Sure
 s\, Williamsburg\, Brooklyn\, New York\,  11211\, United States;X-APPLE-RA
 DIUS=100;X-TITLE=P.I.T (Property is Theft):geo:0,0
END:VEVENT
BEGIN:VTIMEZONE
TZID:America/New_York
X-LIC-LOCATION:America/New_York
BEGIN:DAYLIGHT
DTSTART:20260308T030000
TZOFFSETFROM:-0500
TZOFFSETTO:-0400
TZNAME:EDT
END:DAYLIGHT
END:VTIMEZONE
END:VCALENDAR