BEGIN:VCALENDAR
VERSION:2.0
PRODID:-//wp-events-plugin.com//7.2.3.1//EN
BEGIN:VEVENT
UID:30@abcnorio.org
DTSTART;TZID=America/New_York:20260411T180000
DTEND;TZID=America/New_York:20260411T220000
DTSTAMP:20260410T221547Z
URL:https://www.abcnorio.org/events/punk-show-p-i-t-3/
SUMMARY:Punk Show @ P.I.T (Drogato\, Mantis\, Spirokete\, Death by Despair)
DESCRIPTION:\nCome hang with ABC No Rio at the Pit Saturday 4/14 for heavy 
 rock and then again Saturday 4/11 for an evening of exquisite crust from t
 he hearts and minds of:\n\n\n\nDrogato Mantis Spirokete Death by Despair\n
 \n\n\n6pm doors\, $10-$20 sliding scale\n\n\n\nBenefit for the PA system i
 n our new space @the_p.i.t._&nbsp\;411 S 5th St in Brooklyn ALL AGES\n\n\n
 \nNo racism no sexism no homophobia no general ugliness and hey please res
 pect the space cos the Pit is awesome and we love them very much.\n
ATTACH;FMTTYPE=image/jpeg:https://i0.wp.com/www.abcnorio.org/wp-content/up
 loads/2026/04/Screenshot-2026-04-10-at-6.09.28-PM.png?fit=1566%2C2024&ssl=
 1
LOCATION:P.I.T (Property is Theft)\, 411 South 5th St\, Los Sures\, William
 sburg\, Brooklyn\, New York\,  11211\, United States
X-APPLE-STRUCTURED-LOCATION;VALUE=URI;X-ADDRESS=411 South 5th St\, Los Sure
 s\, Williamsburg\, Brooklyn\, New York\,  11211\, United States;X-APPLE-RA
 DIUS=100;X-TITLE=P.I.T (Property is Theft):geo:0,0
END:VEVENT
BEGIN:VTIMEZONE
TZID:America/New_York
X-LIC-LOCATION:America/New_York
BEGIN:DAYLIGHT
DTSTART:20260308T030000
TZOFFSETFROM:-0500
TZOFFSETTO:-0400
TZNAME:EDT
END:DAYLIGHT
END:VTIMEZONE
END:VCALENDAR